Workbook

Sheet Auswahlfelder
A1: Auswahlfelder Selbstdeklaration
A3: Anzahl Kinder | C3: Stellenprozente | E3: Zivilstand
A4: 0 | C4: 0 | E4: verheiratet
A5: 1 | C5: 0.05 | E5: in Partnerschaft
A6: 2 | C6: 0.1 | E6: eingetragene Partnerschaft
A7: 3 | C7: 0.15 | E7: ledig
A8: 4 | C8: 0.2 | E8: verwittwet
A9: 5 | C9: 0.25 | E9: freiwillig getrennt
A10: 6 | C10: 0.3 | E10: getrennt
A11: 7 | C11: 0.35 | E11: geschieden
C12: 0.4
C13: 0.45
C14: 0.5
A15: Auswahl | C15: 0.55
A16: JA | C16: 0.6
A17: NEIN | C17: 0.65
C18: 0.7
C19: 0.75
C20: 0.8
C21: 0.85
C22: 0.9
C23: 0.95
C24: 1
A25: Vermögensgrenze
A26: richtig
A27: nein mehr
A29: Betreuungsumfang | D29: Kontaktaufnahme
A30: 1 | D30: X
A31: 1.5
A32: 2
A33: 2.5
A34: 3
A35: 3.5
A36: 4
A37: 4.5
A38: 5

Sheet Tabelle_Beiträge_Gutscheine
B1: Tarifmodell | C1: =4*12*5 -> 240 | D1: Betreuungstage pro Jahr | F1: =150*4 -> 600 | G1: Mittelwert * 4 | I1: =+(10*135+2*145)/12 -> 136.66667 | J1: 10KK*Tarif plus 2 BB = Total geteilt durch 12
C2: Quellensteuer Lohnausweis verlangen | F2: =47.15*4 -> 188.6 | G2: Mittelwert beider Tarife? Vergütung Kantgon pro Tag
C3: Krippe | G3: Excel-Vorlage als Dokument abspeichern, sodass Klienten Original haben und sichern können
B4: Massgebendes Einkommen | C4: 20% Betreuung | D4: Satz Eigenleistungen | F4: =+F1-F2 -> 411.4 | G4: Betrag nach Abzug Kantonsbeitrag | H4: monatlicher Gutschein | I4: monatlicher Gutschein | J4: monatlicher Gutschein | K4: monatlicher Gutschein | L4: monatlicher Gutschein | M4: monatlicher Gutschein | N4: monatlicher Gutschein | O4: monatlicher Gutschein | P4: monatlicher Gutschein
B5: 60000 | C5: 80 | H5: 0.2 | I5: 0.3 | J5: 0.4 | K5: 0.5 | L5: 0.6 | M5: 0.7 | N5: 0.8 | O5: 0.9 | P5: 1
A6: =IF(Selbstdeklaration!F76<B7,F7/20*Selbstdeklaration!$F$77,0) -> 0 | B6: Mindestbetrag | C6: 80 / Monat | D6: entspricht Sockelbeitrag
A7: =IF(Selbstdeklaration!$F$76=B7,F7/20*Selbstdeklaration!$F$77,0) -> 0 | B7: =+B5 -> 60000 | C7: =+C5 -> 80 | D7: =C5/B5 -> 0.0013333333 | F7: =+$C$87-C7 -> 331.4 | H7: =ROUND($F$4-C7,1) -> 331.4 | I7: =ROUND($F$4*1.5-C7*1.5,1) -> 497.1 | J7: =ROUND($F$4*2-C7*2,1) -> 662.8 | K7: =ROUND($F$4*2.5-C7*2.5,1) -> 828.5 | L7: =ROUND($F$4*3-C7*3,1) -> 994.2 | M7: =ROUND($F$4*3.5-C7*3.5,1) -> 1159.9 | N7: =ROUND($F$4*4-C7*4,1) -> 1325.6 | O7: =ROUND($F$4*4.5-C7*4.5,1) -> 1491.3 | P7: =ROUND($F$4*5-C7*5,1) -> 1657
A8: =IF(Selbstdeklaration!$F$76=B8,F8/20*Selbstdeklaration!$F$77,0) -> 0 | B8: 60500 | C8: =+B8*D8 -> 82.769546 | D8: =+D7+($D$87-$D$7)/40000*500 -> 0.0013680917 | F8: =+$C$87-C8 -> 328.63045 | H8: =ROUND($F$4-C8,1) -> 328.6 | I8: =ROUND($F$4*1.5-C8*1.5,1) -> 492.9 | J8: =ROUND($F$4*2-C8*2,1) -> 657.3 | K8: =ROUND($F$4*2.5-C8*2.5,1) -> 821.6 | L8: =ROUND($F$4*3-C8*3,1) -> 985.9 | M8: =ROUND($F$4*3.5-C8*3.5,1) -> 1150.2 | N8: =ROUND($F$4*4-C8*4,1) -> 1314.5 | O8: =ROUND($F$4*4.5-C8*4.5,1) -> 1478.8 | P8: =ROUND($F$4*5-C8*5,1) -> 1643.2
A9: =IF(Selbstdeklaration!$F$76=B9,F9/20*Selbstdeklaration!$F$77,0) -> 0 | B9: 61000 | C9: =+B9*D9 -> 85.57385 | D9: =+D8+($D$87-$D$7)/40000*500 -> 0.00140285 | F9: =+$C$87-C9 -> 325.82615 | H9: =ROUND($F$4-C9,1) -> 325.8 | I9: =ROUND($F$4*1.5-C9*1.5,1) -> 488.7 | J9: =ROUND($F$4*2-C9*2,1) -> 651.7 | K9: =ROUND($F$4*2.5-C9*2.5,1) -> 814.6 | L9: =ROUND($F$4*3-C9*3,1) -> 977.5 | M9: =ROUND($F$4*3.5-C9*3.5,1) -> 1140.4 | N9: =ROUND($F$4*4-C9*4,1) -> 1303.3 | O9: =ROUND($F$4*4.5-C9*4.5,1) -> 1466.2 | P9: =ROUND($F$4*5-C9*5,1) -> 1629.1
A10: =IF(Selbstdeklaration!$F$76=B10,F10/20*Selbstdeklaration!$F$77,0) -> 0 | B10: 61500 | C10: =+B10*D10 -> 88.412913 | D10: =+D9+($D$87-$D$7)/40000*500 -> 0.0014376083 | F10: =+$C$87-C10 -> 322.98709 | H10: =ROUND($F$4-C10,1) -> 323 | I10: =ROUND($F$4*1.5-C10*1.5,1) -> 484.5 | J10: =ROUND($F$4*2-C10*2,1) -> 646 | K10: =ROUND($F$4*2.5-C10*2.5,1) -> 807.5 | L10: =ROUND($F$4*3-C10*3,1) -> 969 | M10: =ROUND($F$4*3.5-C10*3.5,1) -> 1130.5 | N10: =ROUND($F$4*4-C10*4,1) -> 1291.9 | O10: =ROUND($F$4*4.5-C10*4.5,1) -> 1453.4 | P10: =ROUND($F$4*5-C10*5,1) -> 1614.9
A11: =IF(Selbstdeklaration!$F$76=B11,F11/20*Selbstdeklaration!$F$77,0) -> 0 | B11: 62000 | C11: =+B11*D11 -> 91.286733 | D11: =+D10+($D$87-$D$7)/40000*500 -> 0.0014723667 | F11: =+$C$87-C11 -> 320.11327 | H11: =ROUND($F$4-C11,1) -> 320.1 | I11: =ROUND($F$4*1.5-C11*1.5,1) -> 480.2 | J11: =ROUND($F$4*2-C11*2,1) -> 640.2 | K11: =ROUND($F$4*2.5-C11*2.5,1) -> 800.3 | L11: =ROUND($F$4*3-C11*3,1) -> 960.3 | M11: =ROUND($F$4*3.5-C11*3.5,1) -> 1120.4 | N11: =ROUND($F$4*4-C11*4,1) -> 1280.5 | O11: =ROUND($F$4*4.5-C11*4.5,1) -> 1440.5 | P11: =ROUND($F$4*5-C11*5,1) -> 1600.6
A12: =IF(Selbstdeklaration!$F$76=B12,F12/20*Selbstdeklaration!$F$77,0) -> 0 | B12: 62500 | C12: =+B12*D12 -> 94.195312 | D12: =+D11+($D$87-$D$7)/40000*500 -> 0.001507125 | F12: =+$C$87-C12 -> 317.20469 | H12: =ROUND($F$4-C12,1) -> 317.2 | I12: =ROUND($F$4*1.5-C12*1.5,1) -> 475.8 | J12: =ROUND($F$4*2-C12*2,1) -> 634.4 | K12: =ROUND($F$4*2.5-C12*2.5,1) -> 793 | L12: =ROUND($F$4*3-C12*3,1) -> 951.6 | M12: =ROUND($F$4*3.5-C12*3.5,1) -> 1110.2 | N12: =ROUND($F$4*4-C12*4,1) -> 1268.8 | O12: =ROUND($F$4*4.5-C12*4.5,1) -> 1427.4 | P12: =ROUND($F$4*5-C12*5,1) -> 1586
A13: =IF(Selbstdeklaration!$F$76=B13,F13/20*Selbstdeklaration!$F$77,0) -> 0 | B13: 63000 | C13: =+B13*D13 -> 97.13865 | D13: =+D12+($D$87-$D$7)/40000*500 -> 0.0015418833 | F13: =+$C$87-C13 -> 314.26135 | H13: =ROUND($F$4-C13,1) -> 314.3 | I13: =ROUND($F$4*1.5-C13*1.5,1) -> 471.4 | J13: =ROUND($F$4*2-C13*2,1) -> 628.5 | K13: =ROUND($F$4*2.5-C13*2.5,1) -> 785.7 | L13: =ROUND($F$4*3-C13*3,1) -> 942.8 | M13: =ROUND($F$4*3.5-C13*3.5,1) -> 1099.9 | N13: =ROUND($F$4*4-C13*4,1) -> 1257 | O13: =ROUND($F$4*4.5-C13*4.5,1) -> 1414.2 | P13: =ROUND($F$4*5-C13*5,1) -> 1571.3
A14: =IF(Selbstdeklaration!$F$76=B14,F14/20*Selbstdeklaration!$F$77,0) -> 0 | B14: 63500 | C14: =+B14*D14 -> 100.11675 | D14: =+D13+($D$87-$D$7)/40000*500 -> 0.0015766417 | F14: =+$C$87-C14 -> 311.28325 | H14: =ROUND($F$4-C14,1) -> 311.3 | I14: =ROUND($F$4*1.5-C14*1.5,1) -> 466.9 | J14: =ROUND($F$4*2-C14*2,1) -> 622.6 | K14: =ROUND($F$4*2.5-C14*2.5,1) -> 778.2 | L14: =ROUND($F$4*3-C14*3,1) -> 933.8 | M14: =ROUND($F$4*3.5-C14*3.5,1) -> 1089.5 | N14: =ROUND($F$4*4-C14*4,1) -> 1245.1 | O14: =ROUND($F$4*4.5-C14*4.5,1) -> 1400.8 | P14: =ROUND($F$4*5-C14*5,1) -> 1556.4
A15: =IF(Selbstdeklaration!$F$76=B15,F15/20*Selbstdeklaration!$F$77,0) -> 0 | B15: 64000 | C15: =+B15*D15 -> 103.1296 | D15: =+D14+($D$87-$D$7)/40000*500 -> 0.0016114 | F15: =+$C$87-C15 -> 308.2704 | H15: =ROUND($F$4-C15,1) -> 308.3 | I15: =ROUND($F$4*1.5-C15*1.5,1) -> 462.4 | J15: =ROUND($F$4*2-C15*2,1) -> 616.5 | K15: =ROUND($F$4*2.5-C15*2.5,1) -> 770.7 | L15: =ROUND($F$4*3-C15*3,1) -> 924.8 | M15: =ROUND($F$4*3.5-C15*3.5,1) -> 1078.9 | N15: =ROUND($F$4*4-C15*4,1) -> 1233.1 | O15: =ROUND($F$4*4.5-C15*4.5,1) -> 1387.2 | P15: =ROUND($F$4*5-C15*5,1) -> 1541.4
A16: =IF(Selbstdeklaration!$F$76=B16,F16/20*Selbstdeklaration!$F$77,0) -> 0 | B16: 64500 | C16: =+B16*D16 -> 106.17721 | D16: =+D15+($D$87-$D$7)/40000*500 -> 0.0016461583 | F16: =+$C$87-C16 -> 305.22279 | H16: =ROUND($F$4-C16,1) -> 305.2 | I16: =ROUND($F$4*1.5-C16*1.5,1) -> 457.8 | J16: =ROUND($F$4*2-C16*2,1) -> 610.4 | K16: =ROUND($F$4*2.5-C16*2.5,1) -> 763.1 | L16: =ROUND($F$4*3-C16*3,1) -> 915.7 | M16: =ROUND($F$4*3.5-C16*3.5,1) -> 1068.3 | N16: =ROUND($F$4*4-C16*4,1) -> 1220.9 | O16: =ROUND($F$4*4.5-C16*4.5,1) -> 1373.5 | P16: =ROUND($F$4*5-C16*5,1) -> 1526.1
A17: =IF(Selbstdeklaration!$F$76=B17,F17/20*Selbstdeklaration!$F$77,0) -> 0 | B17: 65000 | C17: =+B17*D17 -> 109.25958 | D17: =+D16+($D$87-$D$7)/40000*500 -> 0.0016809167 | F17: =+$C$87-C17 -> 302.14042 | H17: =ROUND($F$4-C17,1) -> 302.1 | I17: =ROUND($F$4*1.5-C17*1.5,1) -> 453.2 | J17: =ROUND($F$4*2-C17*2,1) -> 604.3 | K17: =ROUND($F$4*2.5-C17*2.5,1) -> 755.4 | L17: =ROUND($F$4*3-C17*3,1) -> 906.4 | M17: =ROUND($F$4*3.5-C17*3.5,1) -> 1057.5 | N17: =ROUND($F$4*4-C17*4,1) -> 1208.6 | O17: =ROUND($F$4*4.5-C17*4.5,1) -> 1359.6 | P17: =ROUND($F$4*5-C17*5,1) -> 1510.7
A18: =IF(Selbstdeklaration!$F$76=B18,F18/20*Selbstdeklaration!$F$77,0) -> 0 | B18: 65500 | C18: =+B18*D18 -> 112.37671 | D18: =+D17+($D$87-$D$7)/40000*500 -> 0.001715675 | F18: =+$C$87-C18 -> 299.02329 | H18: =ROUND($F$4-C18,1) -> 299 | I18: =ROUND($F$4*1.5-C18*1.5,1) -> 448.5 | J18: =ROUND($F$4*2-C18*2,1) -> 598 | K18: =ROUND($F$4*2.5-C18*2.5,1) -> 747.6 | L18: =ROUND($F$4*3-C18*3,1) -> 897.1 | M18: =ROUND($F$4*3.5-C18*3.5,1) -> 1046.6 | N18: =ROUND($F$4*4-C18*4,1) -> 1196.1 | O18: =ROUND($F$4*4.5-C18*4.5,1) -> 1345.6 | P18: =ROUND($F$4*5-C18*5,1) -> 1495.1
A19: =IF(Selbstdeklaration!$F$76=B19,F19/20*Selbstdeklaration!$F$77,0) -> 0 | B19: 66000 | C19: =+B19*D19 -> 115.5286 | D19: =+D18+($D$87-$D$7)/40000*500 -> 0.0017504333 | F19: =+$C$87-C19 -> 295.8714 | H19: =ROUND($F$4-C19,1) -> 295.9 | I19: =ROUND($F$4*1.5-C19*1.5,1) -> 443.8 | J19: =ROUND($F$4*2-C19*2,1) -> 591.7 | K19: =ROUND($F$4*2.5-C19*2.5,1) -> 739.7 | L19: =ROUND($F$4*3-C19*3,1) -> 887.6 | M19: =ROUND($F$4*3.5-C19*3.5,1) -> 1035.5 | N19: =ROUND($F$4*4-C19*4,1) -> 1183.5 | O19: =ROUND($F$4*4.5-C19*4.5,1) -> 1331.4 | P19: =ROUND($F$4*5-C19*5,1) -> 1479.4
... A86: =IF(Selbstdeklaration!$F$76=B86,F86/20*Selbstdeklaration!$F$77,0) -> 0 | B86: 99500 | C86: =+B86*D86 -> 405.88455 | D86: =+D85+($D$87-$D$7)/40000*500 -> 0.0040792417 | F86: =+$C$87-C86 -> 5.5154542 | H86: =ROUND($F$4-C86,1) -> 5.5 | I86: =ROUND($F$4*1.5-C86*1.5,1) -> 8.3 | J86: =ROUND($F$4*2-C86*2,1) -> 11 | K86: =ROUND($F$4*2.5-C86*2.5,1) -> 13.8 | L86: =ROUND($F$4*3-C86*3,1) -> 16.5 | M86: =ROUND($F$4*3.5-C86*3.5,1) -> 19.3 | N86: =ROUND($F$4*4-C86*4,1) -> 22.1 | O86: =ROUND($F$4*4.5-C86*4.5,1) -> 24.8 | P86: =ROUND($F$4*5-C86*5,1) -> 27.6
A87: =IF(Selbstdeklaration!$F$76=B87,F87/20*Selbstdeklaration!$F$77,0) -> 0 | B87: 100000 | C87: =+B87*D87 -> 411.4 | D87: =(F4)/B87 -> 0.004114 | F87: =+$C$87-C87 -> 0 | H87: =ROUND($F$4-C87,1) -> 0 | I87: =ROUND($F$4*1.5-C87*1.5,1) -> 0 | J87: =ROUND($F$4*2-C87*2,1) -> 0 | K87: =ROUND($F$4*2.5-C87*2.5,1) -> 0 | L87: =ROUND($F$4*3-C87*3,1) -> 0 | M87: =ROUND($F$4*3.5-C87*3.5,1) -> 0 | N87: =ROUND($F$4*4-C87*4,1) -> 0 | O87: =ROUND($F$4*4.5-C87*4.5,1) -> 0 | P87: =ROUND($F$4*5-C87*5,1) -> 0
A88: =IF(Selbstdeklaration!$F$76=B88,F88/20*Selbstdeklaration!$F$77,0) -> 0 | B88: 100500 | C88: =+B88*D88 -> 0 | F88: =+$C$167-C88 -> 0 | H88: =ROUND($F$4-C88,1) -> 411.4 | I88: =ROUND($F$4*1.5-C88*1.5,1) -> 617.1 | J88: =ROUND($F$4*2-C88*2,1) -> 822.8 | K88: =ROUND($F$4*2.5-C88*2.5,1) -> 1028.5 | L88: =ROUND($F$4*3-C88*3,1) -> 1234.2 | M88: =ROUND($F$4*3.5-C88*3.5,1) -> 1439.9 | N88: =ROUND($F$4*4-C88*4,1) -> 1645.6 | O88: =ROUND($F$4*4.5-C88*4.5,1) -> 1851.3 | P88: =ROUND($F$4*5-C88*5,1) -> 2057
A89: =IF(Selbstdeklaration!$F$76=B89,F89/20*Selbstdeklaration!$F$77,0) -> 0 | B89: 101000 | C89: =+B89*D89 -> 0 | F89: =+$C$167-C89 -> 0 | H89: =ROUND($F$4-C89,1) -> 411.4 | I89: =ROUND($F$4*1.5-C89*1.5,1) -> 617.1 | J89: =ROUND($F$4*2-C89*2,1) -> 822.8 | K89: =ROUND($F$4*2.5-C89*2.5,1) -> 1028.5 | L89: =ROUND($F$4*3-C89*3,1) -> 1234.2 | M89: =ROUND($F$4*3.5-C89*3.5,1) -> 1439.9 | N89: =ROUND($F$4*4-C89*4,1) -> 1645.6 | O89: =ROUND($F$4*4.5-C89*4.5,1) -> 1851.3 | P89: =ROUND($F$4*5-C89*5,1) -> 2057
A90: =IF(Selbstdeklaration!$F$76=B90,F90/20*Selbstdeklaration!$F$77,0) -> 0 | B90: 101500 | C90: =+B90*D90 -> 0 | F90: =+$C$167-C90 -> 0 | H90: =ROUND($F$4-C90,1) -> 411.4 | I90: =ROUND($F$4*1.5-C90*1.5,1) -> 617.1 | J90: =ROUND($F$4*2-C90*2,1) -> 822.8 | K90: =ROUND($F$4*2.5-C90*2.5,1) -> 1028.5 | L90: =ROUND($F$4*3-C90*3,1) -> 1234.2 | M90: =ROUND($F$4*3.5-C90*3.5,1) -> 1439.9 | N90: =ROUND($F$4*4-C90*4,1) -> 1645.6 | O90: =ROUND($F$4*4.5-C90*4.5,1) -> 1851.3 | P90: =ROUND($F$4*5-C90*5,1) -> 2057
A91: =IF(Selbstdeklaration!$F$76=B91,F91/20*Selbstdeklaration!$F$77,0) -> 0 | B91: 102000 | C91: =+B91*D91 -> 0 | F91: =+$C$167-C91 -> 0 | H91: =ROUND($F$4-C91,1) -> 411.4 | I91: =ROUND($F$4*1.5-C91*1.5,1) -> 617.1 | J91: =ROUND($F$4*2-C91*2,1) -> 822.8 | K91: =ROUND($F$4*2.5-C91*2.5,1) -> 1028.5 | L91: =ROUND($F$4*3-C91*3,1) -> 1234.2 | M91: =ROUND($F$4*3.5-C91*3.5,1) -> 1439.9 | N91: =ROUND($F$4*4-C91*4,1) -> 1645.6 | O91: =ROUND($F$4*4.5-C91*4.5,1) -> 1851.3 | P91: =ROUND($F$4*5-C91*5,1) -> 2057
A92: =IF(Selbstdeklaration!$F$76=B92,F92/20*Selbstdeklaration!$F$77,0) -> 0 | B92: 102500 | C92: =+B92*D92 -> 0 | F92: =+$C$167-C92 -> 0 | H92: =ROUND($F$4-C92,1) -> 411.4 | I92: =ROUND($F$4*1.5-C92*1.5,1) -> 617.1 | J92: =ROUND($F$4*2-C92*2,1) -> 822.8 | K92: =ROUND($F$4*2.5-C92*2.5,1) -> 1028.5 | L92: =ROUND($F$4*3-C92*3,1) -> 1234.2 | M92: =ROUND($F$4*3.5-C92*3.5,1) -> 1439.9 | N92: =ROUND($F$4*4-C92*4,1) -> 1645.6 | O92: =ROUND($F$4*4.5-C92*4.5,1) -> 1851.3 | P92: =ROUND($F$4*5-C92*5,1) -> 2057
A93: =IF(Selbstdeklaration!$F$76=B93,F93/20*Selbstdeklaration!$F$77,0) -> 0 | B93: 103000 | C93: =+B93*D93 -> 0 | F93: =+$C$167-C93 -> 0 | H93: =ROUND($F$4-C93,1) -> 411.4 | I93: =ROUND($F$4*1.5-C93*1.5,1) -> 617.1 | J93: =ROUND($F$4*2-C93*2,1) -> 822.8 | K93: =ROUND($F$4*2.5-C93*2.5,1) -> 1028.5 | L93: =ROUND($F$4*3-C93*3,1) -> 1234.2 | M93: =ROUND($F$4*3.5-C93*3.5,1) -> 1439.9 | N93: =ROUND($F$4*4-C93*4,1) -> 1645.6 | O93: =ROUND($F$4*4.5-C93*4.5,1) -> 1851.3 | P93: =ROUND($F$4*5-C93*5,1) -> 2057
A94: =IF(Selbstdeklaration!$F$76=B94,F94/20*Selbstdeklaration!$F$77,0) -> 0 | B94: 103500 | C94: =+B94*D94 -> 0 | F94: =+$C$167-C94 -> 0 | H94: =ROUND($F$4-C94,1) -> 411.4 | I94: =ROUND($F$4*1.5-C94*1.5,1) -> 617.1 | J94: =ROUND($F$4*2-C94*2,1) -> 822.8 | K94: =ROUND($F$4*2.5-C94*2.5,1) -> 1028.5 | L94: =ROUND($F$4*3-C94*3,1) -> 1234.2 | M94: =ROUND($F$4*3.5-C94*3.5,1) -> 1439.9 | N94: =ROUND($F$4*4-C94*4,1) -> 1645.6 | O94: =ROUND($F$4*4.5-C94*4.5,1) -> 1851.3 | P94: =ROUND($F$4*5-C94*5,1) -> 2057
A95: =IF(Selbstdeklaration!$F$76=B95,F95/20*Selbstdeklaration!$F$77,0) -> 0 | B95: 104000 | C95: =+B95*D95 -> 0 | F95: =+$C$167-C95 -> 0 | H95: =ROUND($F$4-C95,1) -> 411.4 | I95: =ROUND($F$4*1.5-C95*1.5,1) -> 617.1 | J95: =ROUND($F$4*2-C95*2,1) -> 822.8 | K95: =ROUND($F$4*2.5-C95*2.5,1) -> 1028.5 | L95: =ROUND($F$4*3-C95*3,1) -> 1234.2 | M95: =ROUND($F$4*3.5-C95*3.5,1) -> 1439.9 | N95: =ROUND($F$4*4-C95*4,1) -> 1645.6 | O95: =ROUND($F$4*4.5-C95*4.5,1) -> 1851.3 | P95: =ROUND($F$4*5-C95*5,1) -> 2057
A96: =IF(Selbstdeklaration!$F$76=B96,F96/20*Selbstdeklaration!$F$77,0) -> 0 | B96: 104500 | C96: =+B96*D96 -> 0 | F96: =+$C$167-C96 -> 0 | H96: =ROUND($F$4-C96,1) -> 411.4 | I96: =ROUND($F$4*1.5-C96*1.5,1) -> 617.1 | J96: =ROUND($F$4*2-C96*2,1) -> 822.8 | K96: =ROUND($F$4*2.5-C96*2.5,1) -> 1028.5 | L96: =ROUND($F$4*3-C96*3,1) -> 1234.2 | M96: =ROUND($F$4*3.5-C96*3.5,1) -> 1439.9 | N96: =ROUND($F$4*4-C96*4,1) -> 1645.6 | O96: =ROUND($F$4*4.5-C96*4.5,1) -> 1851.3 | P96: =ROUND($F$4*5-C96*5,1) -> 2057
A97: =IF(Selbstdeklaration!$F$76=B97,F97/20*Selbstdeklaration!$F$77,0) -> 0 | B97: 105000 | C97: =+B97*D97 -> 0 | F97: =+$C$167-C97 -> 0 | H97: =ROUND($F$4-C97,1) -> 411.4 | I97: =ROUND($F$4*1.5-C97*1.5,1) -> 617.1 | J97: =ROUND($F$4*2-C97*2,1) -> 822.8 | K97: =ROUND($F$4*2.5-C97*2.5,1) -> 1028.5 | L97: =ROUND($F$4*3-C97*3,1) -> 1234.2 | M97: =ROUND($F$4*3.5-C97*3.5,1) -> 1439.9 | N97: =ROUND($F$4*4-C97*4,1) -> 1645.6 | O97: =ROUND($F$4*4.5-C97*4.5,1) -> 1851.3 | P97: =ROUND($F$4*5-C97*5,1) -> 2057
A98: =IF(Selbstdeklaration!$F$76=B98,F98/20*Selbstdeklaration!$F$77,0) -> 0 | B98: 105500 | C98: =+B98*D98 -> 0 | F98: =+$C$167-C98 -> 0 | H98: =ROUND($F$4-C98,1) -> 411.4 | I98: =ROUND($F$4*1.5-C98*1.5,1) -> 617.1 | J98: =ROUND($F$4*2-C98*2,1) -> 822.8 | K98: =ROUND($F$4*2.5-C98*2.5,1) -> 1028.5 | L98: =ROUND($F$4*3-C98*3,1) -> 1234.2 | M98: =ROUND($F$4*3.5-C98*3.5,1) -> 1439.9 | N98: =ROUND($F$4*4-C98*4,1) -> 1645.6 | O98: =ROUND($F$4*4.5-C98*4.5,1) -> 1851.3 | P98: =ROUND($F$4*5-C98*5,1) -> 2057
A99: =IF(Selbstdeklaration!$F$76=B99,F99/20*Selbstdeklaration!$F$77,0) -> 0 | B99: 106000 | C99: =+B99*D99 -> 0 | F99: =+$C$167-C99 -> 0 | H99: =ROUND($F$4-C99,1) -> 411.4 | I99: =ROUND($F$4*1.5-C99*1.5,1) -> 617.1 | J99: =ROUND($F$4*2-C99*2,1) -> 822.8 | K99: =ROUND($F$4*2.5-C99*2.5,1) -> 1028.5 | L99: =ROUND($F$4*3-C99*3,1) -> 1234.2 | M99: =ROUND($F$4*3.5-C99*3.5,1) -> 1439.9 | N99: =ROUND($F$4*4-C99*4,1) -> 1645.6 | O99: =ROUND($F$4*4.5-C99*4.5,1) -> 1851.3 | P99: =ROUND($F$4*5-C99*5,1) -> 2057
... A167: =IF(Selbstdeklaration!$F$76=B167,F167/20*Selbstdeklaration!$F$77,0) -> 0 | B167: 140000 | C167: =+B167*D167 -> 0 | F167: =+$C$167-C167 -> 0 | H167: =ROUND($F$4-C167,1) -> 411.4 | I167: =ROUND($F$4*1.5-C167*1.5,1) -> 617.1 | J167: =ROUND($F$4*2-C167*2,1) -> 822.8 | K167: =ROUND($F$4*2.5-C167*2.5,1) -> 1028.5 | L167: =ROUND($F$4*3-C167*3,1) -> 1234.2 | M167: =ROUND($F$4*3.5-C167*3.5,1) -> 1439.9 | N167: =ROUND($F$4*4-C167*4,1) -> 1645.6 | O167: =ROUND($F$4*4.5-C167*4.5,1) -> 1851.3 | P167: =ROUND($F$4*5-C167*5,1) -> 2057
A170: =SUM(A6:A167) -> 0

Sheet Selbstdeklaration
E2: Selbstdeklaration | H2: Ein Formular pro betreutes Kind
E4: Betreuungsgutscheine Kinderbetreuung
E5: Grundlagen siehe: www.neuheim.ch
A7: A | B7: Personalien
A8: Name, Vorname Kind, Geb.Dat.
A9: Name, Vorname Mutter
A10: Name, Vorname Vater
A11: Strasse
A12: PLZ / Ort
A13: Telefon
A14: E-Mail
A15: Zivilstand
A17: B | B17: Familien- und Erwerbssituation
B18: Anzahl Kinder (für die ein Steuerabzug gewährt wird)
B19: beide Elternteile leben im Haushalt
G21: Person 1 | H21: Person 2
B22: Erwerbspensen (Stellenprozente)
E23: =IF(H19="JA",G22+H22-100%,H23) -> 0 | G23: insgesamt | H23: =G22+H22 -> 0
A24: C | B24: Vermögen
B25: Das Reinvermögen gemäss Steuererklärung Ziff. 660 beträgt
B26: Aktuelle Vermögensveränderung netto (+Zunahme -Abnahme)
B27: aktuelles Vermögen in der kommenden Betreuungsperiode | F27: =(H41+H42)/10000*200000 -> 200000 | H27: =+H25+H26 -> 0
A28: D | B28: Massgebendes Einkommen
B29: (Erziehungsberechtigte, die im gleichen Haushalt leben, geben undabhängig vom Zivilstand beide Einkommen an)
A30: 1 | B30: Einkünfte | G30: 1. Steuererkl. | H30: 2. Steuererkl.
A31: 1a | B31: Total aller Einkünfte gemäss Steuererklärung Ziff. 190
A32: 1b | B32: Quellensteuerpflichtige - Nettolohn II des Lohnausweises
A34: 1c | B34: Aktuelle Einkommensveränderung netto (+Zunahme - Abnahme) | G34: 0 | H34: 0
A35: 1e | B35: Erwartetes Jahreseinkommen aller Einkünfte = Total im Jahr | H35: =G31+H31+G32+H32+H33+G34+H34 -> 0
A36: 2 | B36: Zuschläge
A37: 2a | B37: Berücksichtigung Vermögensanteil | H37: =IF((+H27-F27)<=0,0,((H27-F27)/10)) -> 0
A39: 3 | B39: Abzüge | F39: =IF(H43=0,0,MROUND((H43-250),500)) -> 0
A40: 3a | B40: Abzug für effektiv bezahlte Unterhaltsbeiträge gemäss Steuererklärung Ziff. 211 | H40: 0
A41: 3b | B41: Abzug pro erziehungsberechtigte Person im Haushalt | H41: =IF(H19="JA",20000,10000) -> 10000
A42: 3c | B42: Kinderabzug pro Kind wie bei Steuern (CHF 10'000) | H42: =H18*10000 -> 0
A43: 4 | B43: Massgebendes Einkommen für die Berechnung der Betreuungsgutscheine | H43: =IF(H35+H37+H38-H40-H41-H42<0,0,(H35+H37+H38-H40-H41-H42)) -> 0
A45: E | B45: Angaben zur Betreuuung (Betreuungsvereinbarung mitschicken)
B46: Name Kinderbetreuungseinrichtung
B47: Strasse
B48: PLZ / Ort
...

Sheet ÜBERSICHT_Gutscheine_Neuheim
B1: Tarifmodell | C1: =4*12*5 -> 240 | D1: Betreuungstage pro Jahr | F1: =150*4 -> 600 | G1: Mittelwert * 4 | I1: =+(10*135+2*145)/12 -> 136.66667 | J1: 10KK*Tarif plus 2 BB = Total geteilt durch 12
C2: Quellensteuer Lohnausweis verlangen | F2: =47.15*4 -> 188.6 | G2: Mittelwert beider Tarife? Vergütung Kantgon pro Tag
C3: Krippe | G3: Excel-Vorlage als Dokument abspeichern, sodass Klienten Original haben und sichern können
B4: Massgebendes Einkommen | C4: 20% Betreuung | D4: Satz Eigenleistungen | F4: =+F1-F2 -> 411.4 | G4: Betrag nach Abzug Kantonsbeitrag | H4: monatlicher Gutschein | I4: monatlicher Gutschein | J4: monatlicher Gutschein | K4: monatlicher Gutschein | L4: monatlicher Gutschein | M4: monatlicher Gutschein | N4: monatlicher Gutschein | O4: monatlicher Gutschein | P4: monatlicher Gutschein
B5: 60000 | C5: 80 | H5: 0.2 | I5: 0.3 | J5: 0.4 | K5: 0.5 | L5: 0.6 | M5: 0.7 | N5: 0.8 | O5: 0.9 | P5: 1
A6: =IF(Selbstdeklaration!F76<B7,F7/20*Selbstdeklaration!$F$77,0) -> 0 | B6: Mindestbetrag | C6: 80 / Monat | D6: entspricht Sockelbeitrag
A7: =IF(Selbstdeklaration!$F$76=B7,F7/20*Selbstdeklaration!$F$77,0) -> 0 | B7: =+B5 -> 60000 | C7: =+C5 -> 80 | D7: =C5/B5 -> 0.0013333333 | F7: =+$C$87-C7 -> 331.4 | H7: =ROUND($F$4-C7,1) -> 331.4 | I7: =ROUND($F$4*1.5-C7*1.5,1) -> 497.1 | J7: =ROUND($F$4*2-C7*2,1) -> 662.8 | K7: =ROUND($F$4*2.5-C7*2.5,1) -> 828.5 | L7: =ROUND($F$4*3-C7*3,1) -> 994.2 | M7: =ROUND($F$4*3.5-C7*3.5,1) -> 1159.9 | N7: =ROUND($F$4*4-C7*4,1) -> 1325.6 | O7: =ROUND($F$4*4.5-C7*4.5,1) -> 1491.3 | P7: =ROUND($F$4*5-C7*5,1) -> 1657
A8: =IF(Selbstdeklaration!$F$76=B8,F8/20*Selbstdeklaration!$F$77,0) -> 0 | B8: 60500 | C8: =+B8*D8 -> 82.769546 | D8: =+D7+($D$87-$D$7)/40000*500 -> 0.0013680917 | F8: =+$C$87-C8 -> 328.63045 | H8: =ROUND($F$4-C8,1) -> 328.6 | I8: =ROUND($F$4*1.5-C8*1.5,1) -> 492.9 | J8: =ROUND($F$4*2-C8*2,1) -> 657.3 | K8: =ROUND($F$4*2.5-C8*2.5,1) -> 821.6 | L8: =ROUND($F$4*3-C8*3,1) -> 985.9 | M8: =ROUND($F$4*3.5-C8*3.5,1) -> 1150.2 | N8: =ROUND($F$4*4-C8*4,1) -> 1314.5 | O8: =ROUND($F$4*4.5-C8*4.5,1) -> 1478.8 | P8: =ROUND($F$4*5-C8*5,1) -> 1643.2
A9: =IF(Selbstdeklaration!$F$76=B9,F9/20*Selbstdeklaration!$F$77,0) -> 0 | B9: 61000 | C9: =+B9*D9 -> 85.57385 | D9: =+D8+($D$87-$D$7)/40000*500 -> 0.00140285 | F9: =+$C$87-C9 -> 325.82615 | H9: =ROUND($F$4-C9,1) -> 325.8 | I9: =ROUND($F$4*1.5-C9*1.5,1) -> 488.7 | J9: =ROUND($F$4*2-C9*2,1) -> 651.7 | K9: =ROUND($F$4*2.5-C9*2.5,1) -> 814.6 | L9: =ROUND($F$4*3-C9*3,1) -> 977.5 | M9: =ROUND($F$4*3.5-C9*3.5,1) -> 1140.4 | N9: =ROUND($F$4*4-C9*4,1) -> 1303.3 | O9: =ROUND($F$4*4.5-C9*4.5,1) -> 1466.2 | P9: =ROUND($F$4*5-C9*5,1) -> 1629.1
A10: =IF(Selbstdeklaration!$F$76=B10,F10/20*Selbstdeklaration!$F$77,0) -> 0 | B10: 61500 | C10: =+B10*D10 -> 88.412913 | D10: =+D9+($D$87-$D$7)/40000*500 -> 0.0014376083 | F10: =+$C$87-C10 -> 322.98709 | H10: =ROUND($F$4-C10,1) -> 323 | I10: =ROUND($F$4*1.5-C10*1.5,1) -> 484.5 | J10: =ROUND($F$4*2-C10*2,1) -> 646 | K10: =ROUND($F$4*2.5-C10*2.5,1) -> 807.5 | L10: =ROUND($F$4*3-C10*3,1) -> 969 | M10: =ROUND($F$4*3.5-C10*3.5,1) -> 1130.5 | N10: =ROUND($F$4*4-C10*4,1) -> 1291.9 | O10: =ROUND($F$4*4.5-C10*4.5,1) -> 1453.4 | P10: =ROUND($F$4*5-C10*5,1) -> 1614.9
A11: =IF(Selbstdeklaration!$F$76=B11,F11/20*Selbstdeklaration!$F$77,0) -> 0 | B11: 62000 | C11: =+B11*D11 -> 91.286733 | D11: =+D10+($D$87-$D$7)/40000*500 -> 0.0014723667 | F11: =+$C$87-C11 -> 320.11327 | H11: =ROUND($F$4-C11,1) -> 320.1 | I11: =ROUND($F$4*1.5-C11*1.5,1) -> 480.2 | J11: =ROUND($F$4*2-C11*2,1) -> 640.2 | K11: =ROUND($F$4*2.5-C11*2.5,1) -> 800.3 | L11: =ROUND($F$4*3-C11*3,1) -> 960.3 | M11: =ROUND($F$4*3.5-C11*3.5,1) -> 1120.4 | N11: =ROUND($F$4*4-C11*4,1) -> 1280.5 | O11: =ROUND($F$4*4.5-C11*4.5,1) -> 1440.5 | P11: =ROUND($F$4*5-C11*5,1) -> 1600.6
A12: =IF(Selbstdeklaration!$F$76=B12,F12/20*Selbstdeklaration!$F$77,0) -> 0 | B12: 62500 | C12: =+B12*D12 -> 94.195312 | D12: =+D11+($D$87-$D$7)/40000*500 -> 0.001507125 | F12: =+$C$87-C12 -> 317.20469 | H12: =ROUND($F$4-C12,1) -> 317.2 | I12: =ROUND($F$4*1.5-C12*1.5,1) -> 475.8 | J12: =ROUND($F$4*2-C12*2,1) -> 634.4 | K12: =ROUND($F$4*2.5-C12*2.5,1) -> 793 | L12: =ROUND($F$4*3-C12*3,1) -> 951.6 | M12: =ROUND($F$4*3.5-C12*3.5,1) -> 1110.2 | N12: =ROUND($F$4*4-C12*4,1) -> 1268.8 | O12: =ROUND($F$4*4.5-C12*4.5,1) -> 1427.4 | P12: =ROUND($F$4*5-C12*5,1) -> 1586
A13: =IF(Selbstdeklaration!$F$76=B13,F13/20*Selbstdeklaration!$F$77,0) -> 0 | B13: 63000 | C13: =+B13*D13 -> 97.13865 | D13: =+D12+($D$87-$D$7)/40000*500 -> 0.0015418833 | F13: =+$C$87-C13 -> 314.26135 | H13: =ROUND($F$4-C13,1) -> 314.3 | I13: =ROUND($F$4*1.5-C13*1.5,1) -> 471.4 | J13: =ROUND($F$4*2-C13*2,1) -> 628.5 | K13: =ROUND($F$4*2.5-C13*2.5,1) -> 785.7 | L13: =ROUND($F$4*3-C13*3,1) -> 942.8 | M13: =ROUND($F$4*3.5-C13*3.5,1) -> 1099.9 | N13: =ROUND($F$4*4-C13*4,1) -> 1257 | O13: =ROUND($F$4*4.5-C13*4.5,1) -> 1414.2 | P13: =ROUND($F$4*5-C13*5,1) -> 1571.3
A14: =IF(Selbstdeklaration!$F$76=B14,F14/20*Selbstdeklaration!$F$77,0) -> 0 | B14: 63500 | C14: =+B14*D14 -> 100.11675 | D14: =+D13+($D$87-$D$7)/40000*500 -> 0.0015766417 | F14: =+$C$87-C14 -> 311.28325 | H14: =ROUND($F$4-C14,1) -> 311.3 | I14: =ROUND($F$4*1.5-C14*1.5,1) -> 466.9 | J14: =ROUND($F$4*2-C14*2,1) -> 622.6 | K14: =ROUND($F$4*2.5-C14*2.5,1) -> 778.2 | L14: =ROUND($F$4*3-C14*3,1) -> 933.8 | M14: =ROUND($F$4*3.5-C14*3.5,1) -> 1089.5 | N14: =ROUND($F$4*4-C14*4,1) -> 1245.1 | O14: =ROUND($F$4*4.5-C14*4.5,1) -> 1400.8 | P14: =ROUND($F$4*5-C14*5,1) -> 1556.4
A15: =IF(Selbstdeklaration!$F$76=B15,F15/20*Selbstdeklaration!$F$77,0) -> 0 | B15: 64000 | C15: =+B15*D15 -> 103.1296 | D15: =+D14+($D$87-$D$7)/40000*500 -> 0.0016114 | F15: =+$C$87-C15 -> 308.2704 | H15: =ROUND($F$4-C15,1) -> 308.3 | I15: =ROUND($F$4*1.5-C15*1.5,1) -> 462.4 | J15: =ROUND($F$4*2-C15*2,1) -> 616.5 | K15: =ROUND($F$4*2.5-C15*2.5,1) -> 770.7 | L15: =ROUND($F$4*3-C15*3,1) -> 924.8 | M15: =ROUND($F$4*3.5-C15*3.5,1) -> 1078.9 | N15: =ROUND($F$4*4-C15*4,1) -> 1233.1 | O15: =ROUND($F$4*4.5-C15*4.5,1) -> 1387.2 | P15: =ROUND($F$4*5-C15*5,1) -> 1541.4
A16: =IF(Selbstdeklaration!$F$76=B16,F16/20*Selbstdeklaration!$F$77,0) -> 0 | B16: 64500 | C16: =+B16*D16 -> 106.17721 | D16: =+D15+($D$87-$D$7)/40000*500 -> 0.0016461583 | F16: =+$C$87-C16 -> 305.22279 | H16: =ROUND($F$4-C16,1) -> 305.2 | I16: =ROUND($F$4*1.5-C16*1.5,1) -> 457.8 | J16: =ROUND($F$4*2-C16*2,1) -> 610.4 | K16: =ROUND($F$4*2.5-C16*2.5,1) -> 763.1 | L16: =ROUND($F$4*3-C16*3,1) -> 915.7 | M16: =ROUND($F$4*3.5-C16*3.5,1) -> 1068.3 | N16: =ROUND($F$4*4-C16*4,1) -> 1220.9 | O16: =ROUND($F$4*4.5-C16*4.5,1) -> 1373.5 | P16: =ROUND($F$4*5-C16*5,1) -> 1526.1
A17: =IF(Selbstdeklaration!$F$76=B17,F17/20*Selbstdeklaration!$F$77,0) -> 0 | B17: 65000 | C17: =+B17*D17 -> 109.25958 | D17: =+D16+($D$87-$D$7)/40000*500 -> 0.0016809167 | F17: =+$C$87-C17 -> 302.14042 | H17: =ROUND($F$4-C17,1) -> 302.1 | I17: =ROUND($F$4*1.5-C17*1.5,1) -> 453.2 | J17: =ROUND($F$4*2-C17*2,1) -> 604.3 | K17: =ROUND($F$4*2.5-C17*2.5,1) -> 755.4 | L17: =ROUND($F$4*3-C17*3,1) -> 906.4 | M17: =ROUND($F$4*3.5-C17*3.5,1) -> 1057.5 | N17: =ROUND($F$4*4-C17*4,1) -> 1208.6 | O17: =ROUND($F$4*4.5-C17*4.5,1) -> 1359.6 | P17: =ROUND($F$4*5-C17*5,1) -> 1510.7
A18: =IF(Selbstdeklaration!$F$76=B18,F18/20*Selbstdeklaration!$F$77,0) -> 0 | B18: 65500 | C18: =+B18*D18 -> 112.37671 | D18: =+D17+($D$87-$D$7)/40000*500 -> 0.001715675 | F18: =+$C$87-C18 -> 299.02329 | H18: =ROUND($F$4-C18,1) -> 299 | I18: =ROUND($F$4*1.5-C18*1.5,1) -> 448.5 | J18: =ROUND($F$4*2-C18*2,1) -> 598 | K18: =ROUND($F$4*2.5-C18*2.5,1) -> 747.6 | L18: =ROUND($F$4*3-C18*3,1) -> 897.1 | M18: =ROUND($F$4*3.5-C18*3.5,1) -> 1046.6 | N18: =ROUND($F$4*4-C18*4,1) -> 1196.1 | O18: =ROUND($F$4*4.5-C18*4.5,1) -> 1345.6 | P18: =ROUND($F$4*5-C18*5,1) -> 1495.1
A19: =IF(Selbstdeklaration!$F$76=B19,F19/20*Selbstdeklaration!$F$77,0) -> 0 | B19: 66000 | C19: =+B19*D19 -> 115.5286 | D19: =+D18+($D$87-$D$7)/40000*500 -> 0.0017504333 | F19: =+$C$87-C19 -> 295.8714 | H19: =ROUND($F$4-C19,1) -> 295.9 | I19: =ROUND($F$4*1.5-C19*1.5,1) -> 443.8 | J19: =ROUND($F$4*2-C19*2,1) -> 591.7 | K19: =ROUND($F$4*2.5-C19*2.5,1) -> 739.7 | L19: =ROUND($F$4*3-C19*3,1) -> 887.6 | M19: =ROUND($F$4*3.5-C19*3.5,1) -> 1035.5 | N19: =ROUND($F$4*4-C19*4,1) -> 1183.5 | O19: =ROUND($F$4*4.5-C19*4.5,1) -> 1331.4 | P19: =ROUND($F$4*5-C19*5,1) -> 1479.4
... A86: =IF(Selbstdeklaration!$F$76=B86,F86/20*Selbstdeklaration!$F$77,0) -> 0 | B86: 99500 | C86: =+B86*D86 -> 405.88455 | D86: =+D85+($D$87-$D$7)/40000*500 -> 0.0040792417 | F86: =+$C$87-C86 -> 5.5154542 | H86: =ROUND($F$4-C86,1) -> 5.5 | I86: =ROUND($F$4*1.5-C86*1.5,1) -> 8.3 | J86: =ROUND($F$4*2-C86*2,1) -> 11 | K86: =ROUND($F$4*2.5-C86*2.5,1) -> 13.8 | L86: =ROUND($F$4*3-C86*3,1) -> 16.5 | M86: =ROUND($F$4*3.5-C86*3.5,1) -> 19.3 | N86: =ROUND($F$4*4-C86*4,1) -> 22.1 | O86: =ROUND($F$4*4.5-C86*4.5,1) -> 24.8 | P86: =ROUND($F$4*5-C86*5,1) -> 27.6
A87: =IF(Selbstdeklaration!$F$76=B87,F87/20*Selbstdeklaration!$F$77,0) -> 0 | B87: 100000 | C87: =+B87*D87 -> 411.4 | D87: =(F4)/B87 -> 0.004114 | F87: =+$C$87-C87 -> 0 | H87: =ROUND($F$4-C87,1) -> 0 | I87: =ROUND($F$4*1.5-C87*1.5,1) -> 0 | J87: =ROUND($F$4*2-C87*2,1) -> 0 | K87: =ROUND($F$4*2.5-C87*2.5,1) -> 0 | L87: =ROUND($F$4*3-C87*3,1) -> 0 | M87: =ROUND($F$4*3.5-C87*3.5,1) -> 0 | N87: =ROUND($F$4*4-C87*4,1) -> 0 | O87: =ROUND($F$4*4.5-C87*4.5,1) -> 0 | P87: =ROUND($F$4*5-C87*5,1) -> 0
A88: =IF(Selbstdeklaration!$F$76=B88,F88/20*Selbstdeklaration!$F$77,0) -> 0 | B88: 100500 | C88: =+B88*D88 -> 0 | F88: =+$C$167-C88 -> 0 | H88: =ROUND($F$4-C88,1) -> 411.4 | I88: =ROUND($F$4*1.5-C88*1.5,1) -> 617.1 | J88: =ROUND($F$4*2-C88*2,1) -> 822.8 | K88: =ROUND($F$4*2.5-C88*2.5,1) -> 1028.5 | L88: =ROUND($F$4*3-C88*3,1) -> 1234.2 | M88: =ROUND($F$4*3.5-C88*3.5,1) -> 1439.9 | N88: =ROUND($F$4*4-C88*4,1) -> 1645.6 | O88: =ROUND($F$4*4.5-C88*4.5,1) -> 1851.3 | P88: =ROUND($F$4*5-C88*5,1) -> 2057
A89: =IF(Selbstdeklaration!$F$76=B89,F89/20*Selbstdeklaration!$F$77,0) -> 0 | B89: 101000 | C89: =+B89*D89 -> 0 | F89: =+$C$167-C89 -> 0 | H89: =ROUND($F$4-C89,1) -> 411.4 | I89: =ROUND($F$4*1.5-C89*1.5,1) -> 617.1 | J89: =ROUND($F$4*2-C89*2,1) -> 822.8 | K89: =ROUND($F$4*2.5-C89*2.5,1) -> 1028.5 | L89: =ROUND($F$4*3-C89*3,1) -> 1234.2 | M89: =ROUND($F$4*3.5-C89*3.5,1) -> 1439.9 | N89: =ROUND($F$4*4-C89*4,1) -> 1645.6 | O89: =ROUND($F$4*4.5-C89*4.5,1) -> 1851.3 | P89: =ROUND($F$4*5-C89*5,1) -> 2057
A90: =IF(Selbstdeklaration!$F$76=B90,F90/20*Selbstdeklaration!$F$77,0) -> 0 | B90: 101500 | C90: =+B90*D90 -> 0 | F90: =+$C$167-C90 -> 0 | H90: =ROUND($F$4-C90,1) -> 411.4 | I90: =ROUND($F$4*1.5-C90*1.5,1) -> 617.1 | J90: =ROUND($F$4*2-C90*2,1) -> 822.8 | K90: =ROUND($F$4*2.5-C90*2.5,1) -> 1028.5 | L90: =ROUND($F$4*3-C90*3,1) -> 1234.2 | M90: =ROUND($F$4*3.5-C90*3.5,1) -> 1439.9 | N90: =ROUND($F$4*4-C90*4,1) -> 1645.6 | O90: =ROUND($F$4*4.5-C90*4.5,1) -> 1851.3 | P90: =ROUND($F$4*5-C90*5,1) -> 2057
A91: =IF(Selbstdeklaration!$F$76=B91,F91/20*Selbstdeklaration!$F$77,0) -> 0 | B91: 102000 | C91: =+B91*D91 -> 0 | F91: =+$C$167-C91 -> 0 | H91: =ROUND($F$4-C91,1) -> 411.4 | I91: =ROUND($F$4*1.5-C91*1.5,1) -> 617.1 | J91: =ROUND($F$4*2-C91*2,1) -> 822.8 | K91: =ROUND($F$4*2.5-C91*2.5,1) -> 1028.5 | L91: =ROUND($F$4*3-C91*3,1) -> 1234.2 | M91: =ROUND($F$4*3.5-C91*3.5,1) -> 1439.9 | N91: =ROUND($F$4*4-C91*4,1) -> 1645.6 | O91: =ROUND($F$4*4.5-C91*4.5,1) -> 1851.3 | P91: =ROUND($F$4*5-C91*5,1) -> 2057
A92: =IF(Selbstdeklaration!$F$76=B92,F92/20*Selbstdeklaration!$F$77,0) -> 0 | B92: 102500 | C92: =+B92*D92 -> 0 | F92: =+$C$167-C92 -> 0 | H92: =ROUND($F$4-C92,1) -> 411.4 | I92: =ROUND($F$4*1.5-C92*1.5,1) -> 617.1 | J92: =ROUND($F$4*2-C92*2,1) -> 822.8 | K92: =ROUND($F$4*2.5-C92*2.5,1) -> 1028.5 | L92: =ROUND($F$4*3-C92*3,1) -> 1234.2 | M92: =ROUND($F$4*3.5-C92*3.5,1) -> 1439.9 | N92: =ROUND($F$4*4-C92*4,1) -> 1645.6 | O92: =ROUND($F$4*4.5-C92*4.5,1) -> 1851.3 | P92: =ROUND($F$4*5-C92*5,1) -> 2057
A93: =IF(Selbstdeklaration!$F$76=B93,F93/20*Selbstdeklaration!$F$77,0) -> 0 | B93: 103000 | C93: =+B93*D93 -> 0 | F93: =+$C$167-C93 -> 0 | H93: =ROUND($F$4-C93,1) -> 411.4 | I93: =ROUND($F$4*1.5-C93*1.5,1) -> 617.1 | J93: =ROUND($F$4*2-C93*2,1) -> 822.8 | K93: =ROUND($F$4*2.5-C93*2.5,1) -> 1028.5 | L93: =ROUND($F$4*3-C93*3,1) -> 1234.2 | M93: =ROUND($F$4*3.5-C93*3.5,1) -> 1439.9 | N93: =ROUND($F$4*4-C93*4,1) -> 1645.6 | O93: =ROUND($F$4*4.5-C93*4.5,1) -> 1851.3 | P93: =ROUND($F$4*5-C93*5,1) -> 2057
A94: =IF(Selbstdeklaration!$F$76=B94,F94/20*Selbstdeklaration!$F$77,0) -> 0 | B94: 103500 | C94: =+B94*D94 -> 0 | F94: =+$C$167-C94 -> 0 | H94: =ROUND($F$4-C94,1) -> 411.4 | I94: =ROUND($F$4*1.5-C94*1.5,1) -> 617.1 | J94: =ROUND($F$4*2-C94*2,1) -> 822.8 | K94: =ROUND($F$4*2.5-C94*2.5,1) -> 1028.5 | L94: =ROUND($F$4*3-C94*3,1) -> 1234.2 | M94: =ROUND($F$4*3.5-C94*3.5,1) -> 1439.9 | N94: =ROUND($F$4*4-C94*4,1) -> 1645.6 | O94: =ROUND($F$4*4.5-C94*4.5,1) -> 1851.3 | P94: =ROUND($F$4*5-C94*5,1) -> 2057
A95: =IF(Selbstdeklaration!$F$76=B95,F95/20*Selbstdeklaration!$F$77,0) -> 0 | B95: 104000 | C95: =+B95*D95 -> 0 | F95: =+$C$167-C95 -> 0 | H95: =ROUND($F$4-C95,1) -> 411.4 | I95: =ROUND($F$4*1.5-C95*1.5,1) -> 617.1 | J95: =ROUND($F$4*2-C95*2,1) -> 822.8 | K95: =ROUND($F$4*2.5-C95*2.5,1) -> 1028.5 | L95: =ROUND($F$4*3-C95*3,1) -> 1234.2 | M95: =ROUND($F$4*3.5-C95*3.5,1) -> 1439.9 | N95: =ROUND($F$4*4-C95*4,1) -> 1645.6 | O95: =ROUND($F$4*4.5-C95*4.5,1) -> 1851.3 | P95: =ROUND($F$4*5-C95*5,1) -> 2057
A96: =IF(Selbstdeklaration!$F$76=B96,F96/20*Selbstdeklaration!$F$77,0) -> 0 | B96: 104500 | C96: =+B96*D96 -> 0 | F96: =+$C$167-C96 -> 0 | H96: =ROUND($F$4-C96,1) -> 411.4 | I96: =ROUND($F$4*1.5-C96*1.5,1) -> 617.1 | J96: =ROUND($F$4*2-C96*2,1) -> 822.8 | K96: =ROUND($F$4*2.5-C96*2.5,1) -> 1028.5 | L96: =ROUND($F$4*3-C96*3,1) -> 1234.2 | M96: =ROUND($F$4*3.5-C96*3.5,1) -> 1439.9 | N96: =ROUND($F$4*4-C96*4,1) -> 1645.6 | O96: =ROUND($F$4*4.5-C96*4.5,1) -> 1851.3 | P96: =ROUND($F$4*5-C96*5,1) -> 2057
A97: =IF(Selbstdeklaration!$F$76=B97,F97/20*Selbstdeklaration!$F$77,0) -> 0 | B97: 105000 | C97: =+B97*D97 -> 0 | F97: =+$C$167-C97 -> 0 | H97: =ROUND($F$4-C97,1) -> 411.4 | I97: =ROUND($F$4*1.5-C97*1.5,1) -> 617.1 | J97: =ROUND($F$4*2-C97*2,1) -> 822.8 | K97: =ROUND($F$4*2.5-C97*2.5,1) -> 1028.5 | L97: =ROUND($F$4*3-C97*3,1) -> 1234.2 | M97: =ROUND($F$4*3.5-C97*3.5,1) -> 1439.9 | N97: =ROUND($F$4*4-C97*4,1) -> 1645.6 | O97: =ROUND($F$4*4.5-C97*4.5,1) -> 1851.3 | P97: =ROUND($F$4*5-C97*5,1) -> 2057
A98: =IF(Selbstdeklaration!$F$76=B98,F98/20*Selbstdeklaration!$F$77,0) -> 0 | B98: 105500 | C98: =+B98*D98 -> 0 | F98: =+$C$167-C98 -> 0 | H98: =ROUND($F$4-C98,1) -> 411.4 | I98: =ROUND($F$4*1.5-C98*1.5,1) -> 617.1 | J98: =ROUND($F$4*2-C98*2,1) -> 822.8 | K98: =ROUND($F$4*2.5-C98*2.5,1) -> 1028.5 | L98: =ROUND($F$4*3-C98*3,1) -> 1234.2 | M98: =ROUND($F$4*3.5-C98*3.5,1) -> 1439.9 | N98: =ROUND($F$4*4-C98*4,1) -> 1645.6 | O98: =ROUND($F$4*4.5-C98*4.5,1) -> 1851.3 | P98: =ROUND($F$4*5-C98*5,1) -> 2057
A99: =IF(Selbstdeklaration!$F$76=B99,F99/20*Selbstdeklaration!$F$77,0) -> 0 | B99: 106000 | C99: =+B99*D99 -> 0 | F99: =+$C$167-C99 -> 0 | H99: =ROUND($F$4-C99,1) -> 411.4 | I99: =ROUND($F$4*1.5-C99*1.5,1) -> 617.1 | J99: =ROUND($F$4*2-C99*2,1) -> 822.8 | K99: =ROUND($F$4*2.5-C99*2.5,1) -> 1028.5 | L99: =ROUND($F$4*3-C99*3,1) -> 1234.2 | M99: =ROUND($F$4*3.5-C99*3.5,1) -> 1439.9 | N99: =ROUND($F$4*4-C99*4,1) -> 1645.6 | O99: =ROUND($F$4*4.5-C99*4.5,1) -> 1851.3 | P99: =ROUND($F$4*5-C99*5,1) -> 2057
... A167: =IF(Selbstdeklaration!$F$76=B167,F167/20*Selbstdeklaration!$F$77,0) -> 0 | B167: 140000 | C167: =+B167*D167 -> 0 | F167: =+$C$167-C167 -> 0 | H167: =ROUND($F$4-C167,1) -> 411.4 | I167: =ROUND($F$4*1.5-C167*1.5,1) -> 617.1 | J167: =ROUND($F$4*2-C167*2,1) -> 822.8 | K167: =ROUND($F$4*2.5-C167*2.5,1) -> 1028.5 | L167: =ROUND($F$4*3-C167*3,1) -> 1234.2 | M167: =ROUND($F$4*3.5-C167*3.5,1) -> 1439.9 | N167: =ROUND($F$4*4-C167*4,1) -> 1645.6 | O167: =ROUND($F$4*4.5-C167*4.5,1) -> 1851.3 | P167: =ROUND($F$4*5-C167*5,1) -> 2057
A170: =SUM(A6:A167) -> 0

Sheet Übersicht_Gutscheine
B1: Tarifmodell | F1: 592
F2: 138
C3: Krippe
B4: Massgebendes Einkommen | C4: 20% Betreuung | D4: Satz Eigenleistungen | F4: =+F1-F2 -> 454 | H4: monatlicher Gutschein | I4: monatlicher Gutschein | J4: monatlicher Gutschein | K4: monatlicher Gutschein | L4: monatlicher Gutschein | M4: monatlicher Gutschein | N4: monatlicher Gutschein | O4: monatlicher Gutschein | P4: monatlicher Gutschein
B5: 60000 | C5: 80 | H5: 0.2 | I5: 0.3 | J5: 0.4 | K5: 0.5 | L5: 0.6 | M5: 0.7 | N5: 0.8 | O5: 0.9 | P5: 1
A6: =IF(Selbstdeklaration!F76<B7,F7/20*Selbstdeklaration!$F$77,0) -> 0 | B6: Mindestbetrag | C6: 80 / Monat
A7: =IF(Selbstdeklaration!$F$76=B7,F7/20*Selbstdeklaration!$F$77,0) -> 0 | B7: =+B5 -> 60000 | C7: =+C5 -> 80 | D7: =C5/B5 -> 0.0013333333 | F7: =+$C$167-C7 -> 374 | H7: =ROUND($F$4-C7,1) -> 374 | I7: =ROUND($F$4*1.5-C7*1.5,1) -> 561 | J7: =ROUND($F$4*2-C7*2,1) -> 748 | K7: =ROUND($F$4*2.5-C7*2.5,1) -> 935 | L7: =ROUND($F$4*3-C7*3,1) -> 1122 | M7: =ROUND($F$4*3.5-C7*3.5,1) -> 1309 | N7: =ROUND($F$4*4-C7*4,1) -> 1496 | O7: =ROUND($F$4*4.5-C7*4.5,1) -> 1683 | P7: =ROUND($F$4*5-C7*5,1) -> 1870
A8: =IF(Selbstdeklaration!$F$76=B8,F8/20*Selbstdeklaration!$F$77,0) -> 0 | B8: 60500 | C8: =+B8*D8 -> 81.388705 | D8: =+D7+($D$167-$D$7)/80000*500 -> 0.0013452679 | F8: =+$C$167-C8 -> 372.61129 | H8: =ROUND($F$4-C8,1) -> 372.6 | I8: =ROUND($F$4*1.5-C8*1.5,1) -> 558.9 | J8: =ROUND($F$4*2-C8*2,1) -> 745.2 | K8: =ROUND($F$4*2.5-C8*2.5,1) -> 931.5 | L8: =ROUND($F$4*3-C8*3,1) -> 1117.8 | M8: =ROUND($F$4*3.5-C8*3.5,1) -> 1304.1 | N8: =ROUND($F$4*4-C8*4,1) -> 1490.4 | O8: =ROUND($F$4*4.5-C8*4.5,1) -> 1676.8 | P8: =ROUND($F$4*5-C8*5,1) -> 1863.1
A9: =IF(Selbstdeklaration!$F$76=B9,F9/20*Selbstdeklaration!$F$77,0) -> 0 | B9: 61000 | C9: =+B9*D9 -> 82.789345 | D9: =+D8+($D$167-$D$7)/80000*500 -> 0.0013572024 | F9: =+$C$167-C9 -> 371.21065 | H9: =ROUND($F$4-C9,1) -> 371.2 | I9: =ROUND($F$4*1.5-C9*1.5,1) -> 556.8 | J9: =ROUND($F$4*2-C9*2,1) -> 742.4 | K9: =ROUND($F$4*2.5-C9*2.5,1) -> 928 | L9: =ROUND($F$4*3-C9*3,1) -> 1113.6 | M9: =ROUND($F$4*3.5-C9*3.5,1) -> 1299.2 | N9: =ROUND($F$4*4-C9*4,1) -> 1484.8 | O9: =ROUND($F$4*4.5-C9*4.5,1) -> 1670.4 | P9: =ROUND($F$4*5-C9*5,1) -> 1856.1
A10: =IF(Selbstdeklaration!$F$76=B10,F10/20*Selbstdeklaration!$F$77,0) -> 0 | B10: 61500 | C10: =+B10*D10 -> 84.20192 | D10: =+D9+($D$167-$D$7)/80000*500 -> 0.0013691369 | F10: =+$C$167-C10 -> 369.79808 | H10: =ROUND($F$4-C10,1) -> 369.8 | I10: =ROUND($F$4*1.5-C10*1.5,1) -> 554.7 | J10: =ROUND($F$4*2-C10*2,1) -> 739.6 | K10: =ROUND($F$4*2.5-C10*2.5,1) -> 924.5 | L10: =ROUND($F$4*3-C10*3,1) -> 1109.4 | M10: =ROUND($F$4*3.5-C10*3.5,1) -> 1294.3 | N10: =ROUND($F$4*4-C10*4,1) -> 1479.2 | O10: =ROUND($F$4*4.5-C10*4.5,1) -> 1664.1 | P10: =ROUND($F$4*5-C10*5,1) -> 1849
A11: =IF(Selbstdeklaration!$F$76=B11,F11/20*Selbstdeklaration!$F$77,0) -> 0 | B11: 62000 | C11: =+B11*D11 -> 85.626429 | D11: =+D10+($D$167-$D$7)/80000*500 -> 0.0013810714 | F11: =+$C$167-C11 -> 368.37357 | H11: =ROUND($F$4-C11,1) -> 368.4 | I11: =ROUND($F$4*1.5-C11*1.5,1) -> 552.6 | J11: =ROUND($F$4*2-C11*2,1) -> 736.7 | K11: =ROUND($F$4*2.5-C11*2.5,1) -> 920.9 | L11: =ROUND($F$4*3-C11*3,1) -> 1105.1 | M11: =ROUND($F$4*3.5-C11*3.5,1) -> 1289.3 | N11: =ROUND($F$4*4-C11*4,1) -> 1473.5 | O11: =ROUND($F$4*4.5-C11*4.5,1) -> 1657.7 | P11: =ROUND($F$4*5-C11*5,1) -> 1841.9
A12: =IF(Selbstdeklaration!$F$76=B12,F12/20*Selbstdeklaration!$F$77,0) -> 0 | B12: 62500 | C12: =+B12*D12 -> 87.062872 | D12: =+D11+($D$167-$D$7)/80000*500 -> 0.001393006 | F12: =+$C$167-C12 -> 366.93713 | H12: =ROUND($F$4-C12,1) -> 366.9 | I12: =ROUND($F$4*1.5-C12*1.5,1) -> 550.4 | J12: =ROUND($F$4*2-C12*2,1) -> 733.9 | K12: =ROUND($F$4*2.5-C12*2.5,1) -> 917.3 | L12: =ROUND($F$4*3-C12*3,1) -> 1100.8 | M12: =ROUND($F$4*3.5-C12*3.5,1) -> 1284.3 | N12: =ROUND($F$4*4-C12*4,1) -> 1467.7 | O12: =ROUND($F$4*4.5-C12*4.5,1) -> 1651.2 | P12: =ROUND($F$4*5-C12*5,1) -> 1834.7
A13: =IF(Selbstdeklaration!$F$76=B13,F13/20*Selbstdeklaration!$F$77,0) -> 0 | B13: 63000 | C13: =+B13*D13 -> 88.51125 | D13: =+D12+($D$167-$D$7)/80000*500 -> 0.0014049405 | F13: =+$C$167-C13 -> 365.48875 | H13: =ROUND($F$4-C13,1) -> 365.5 | I13: =ROUND($F$4*1.5-C13*1.5,1) -> 548.2 | J13: =ROUND($F$4*2-C13*2,1) -> 731 | K13: =ROUND($F$4*2.5-C13*2.5,1) -> 913.7 | L13: =ROUND($F$4*3-C13*3,1) -> 1096.5 | M13: =ROUND($F$4*3.5-C13*3.5,1) -> 1279.2 | N13: =ROUND($F$4*4-C13*4,1) -> 1462 | O13: =ROUND($F$4*4.5-C13*4.5,1) -> 1644.7 | P13: =ROUND($F$4*5-C13*5,1) -> 1827.4
A14: =IF(Selbstdeklaration!$F$76=B14,F14/20*Selbstdeklaration!$F$77,0) -> 0 | B14: 63500 | C14: =+B14*D14 -> 89.971563 | D14: =+D13+($D$167-$D$7)/80000*500 -> 0.001416875 | F14: =+$C$167-C14 -> 364.02844 | H14: =ROUND($F$4-C14,1) -> 364 | I14: =ROUND($F$4*1.5-C14*1.5,1) -> 546 | J14: =ROUND($F$4*2-C14*2,1) -> 728.1 | K14: =ROUND($F$4*2.5-C14*2.5,1) -> 910.1 | L14: =ROUND($F$4*3-C14*3,1) -> 1092.1 | M14: =ROUND($F$4*3.5-C14*3.5,1) -> 1274.1 | N14: =ROUND($F$4*4-C14*4,1) -> 1456.1 | O14: =ROUND($F$4*4.5-C14*4.5,1) -> 1638.1 | P14: =ROUND($F$4*5-C14*5,1) -> 1820.1
A15: =IF(Selbstdeklaration!$F$76=B15,F15/20*Selbstdeklaration!$F$77,0) -> 0 | B15: 64000 | C15: =+B15*D15 -> 91.44381 | D15: =+D14+($D$167-$D$7)/80000*500 -> 0.0014288095 | F15: =+$C$167-C15 -> 362.55619 | H15: =ROUND($F$4-C15,1) -> 362.6 | I15: =ROUND($F$4*1.5-C15*1.5,1) -> 543.8 | J15: =ROUND($F$4*2-C15*2,1) -> 725.1 | K15: =ROUND($F$4*2.5-C15*2.5,1) -> 906.4 | L15: =ROUND($F$4*3-C15*3,1) -> 1087.7 | M15: =ROUND($F$4*3.5-C15*3.5,1) -> 1268.9 | N15: =ROUND($F$4*4-C15*4,1) -> 1450.2 | O15: =ROUND($F$4*4.5-C15*4.5,1) -> 1631.5 | P15: =ROUND($F$4*5-C15*5,1) -> 1812.8
A16: =IF(Selbstdeklaration!$F$76=B16,F16/20*Selbstdeklaration!$F$77,0) -> 0 | B16: 64500 | C16: =+B16*D16 -> 92.927991 | D16: =+D15+($D$167-$D$7)/80000*500 -> 0.001440744 | F16: =+$C$167-C16 -> 361.07201 | H16: =ROUND($F$4-C16,1) -> 361.1 | I16: =ROUND($F$4*1.5-C16*1.5,1) -> 541.6 | J16: =ROUND($F$4*2-C16*2,1) -> 722.1 | K16: =ROUND($F$4*2.5-C16*2.5,1) -> 902.7 | L16: =ROUND($F$4*3-C16*3,1) -> 1083.2 | M16: =ROUND($F$4*3.5-C16*3.5,1) -> 1263.8 | N16: =ROUND($F$4*4-C16*4,1) -> 1444.3 | O16: =ROUND($F$4*4.5-C16*4.5,1) -> 1624.8 | P16: =ROUND($F$4*5-C16*5,1) -> 1805.4
A17: =IF(Selbstdeklaration!$F$76=B17,F17/20*Selbstdeklaration!$F$77,0) -> 0 | B17: 65000 | C17: =+B17*D17 -> 94.424107 | D17: =+D16+($D$167-$D$7)/80000*500 -> 0.0014526786 | F17: =+$C$167-C17 -> 359.57589 | H17: =ROUND($F$4-C17,1) -> 359.6 | I17: =ROUND($F$4*1.5-C17*1.5,1) -> 539.4 | J17: =ROUND($F$4*2-C17*2,1) -> 719.2 | K17: =ROUND($F$4*2.5-C17*2.5,1) -> 898.9 | L17: =ROUND($F$4*3-C17*3,1) -> 1078.7 | M17: =ROUND($F$4*3.5-C17*3.5,1) -> 1258.5 | N17: =ROUND($F$4*4-C17*4,1) -> 1438.3 | O17: =ROUND($F$4*4.5-C17*4.5,1) -> 1618.1 | P17: =ROUND($F$4*5-C17*5,1) -> 1797.9
A18: =IF(Selbstdeklaration!$F$76=B18,F18/20*Selbstdeklaration!$F$77,0) -> 0 | B18: 65500 | C18: =+B18*D18 -> 95.932158 | D18: =+D17+($D$167-$D$7)/80000*500 -> 0.0014646131 | F18: =+$C$167-C18 -> 358.06784 | H18: =ROUND($F$4-C18,1) -> 358.1 | I18: =ROUND($F$4*1.5-C18*1.5,1) -> 537.1 | J18: =ROUND($F$4*2-C18*2,1) -> 716.1 | K18: =ROUND($F$4*2.5-C18*2.5,1) -> 895.2 | L18: =ROUND($F$4*3-C18*3,1) -> 1074.2 | M18: =ROUND($F$4*3.5-C18*3.5,1) -> 1253.2 | N18: =ROUND($F$4*4-C18*4,1) -> 1432.3 | O18: =ROUND($F$4*4.5-C18*4.5,1) -> 1611.3 | P18: =ROUND($F$4*5-C18*5,1) -> 1790.3
A19: =IF(Selbstdeklaration!$F$76=B19,F19/20*Selbstdeklaration!$F$77,0) -> 0 | B19: 66000 | C19: =+B19*D19 -> 97.452143 | D19: =+D18+($D$167-$D$7)/80000*500 -> 0.0014765476 | F19: =+$C$167-C19 -> 356.54786 | H19: =ROUND($F$4-C19,1) -> 356.5 | I19: =ROUND($F$4*1.5-C19*1.5,1) -> 534.8 | J19: =ROUND($F$4*2-C19*2,1) -> 713.1 | K19: =ROUND($F$4*2.5-C19*2.5,1) -> 891.4 | L19: =ROUND($F$4*3-C19*3,1) -> 1069.6 | M19: =ROUND($F$4*3.5-C19*3.5,1) -> 1247.9 | N19: =ROUND($F$4*4-C19*4,1) -> 1426.2 | O19: =ROUND($F$4*4.5-C19*4.5,1) -> 1604.5 | P19: =ROUND($F$4*5-C19*5,1) -> 1782.7
... A166: =IF(Selbstdeklaration!$F$76=B166,F166/20*Selbstdeklaration!$F$77,0) -> 0 | B166: 139500 | C166: =+B166*D166 -> 450.71371 | D166: =+D165+($D$167-$D$7)/80000*500 -> 0.0032309226 | F166: =+$C$167-C166 -> 3.2862946 | H166: =ROUND($F$4-C166,1) -> 3.3 | I166: =ROUND($F$4*1.5-C166*1.5,1) -> 4.9 | J166: =ROUND($F$4*2-C166*2,1) -> 6.6 | K166: =ROUND($F$4*2.5-C166*2.5,1) -> 8.2 | L166: =ROUND($F$4*3-C166*3,1) -> 9.9 | M166: =ROUND($F$4*3.5-C166*3.5,1) -> 11.5 | N166: =ROUND($F$4*4-C166*4,1) -> 13.1 | O166: =ROUND($F$4*4.5-C166*4.5,1) -> 14.8 | P166: =ROUND($F$4*5-C166*5,1) -> 16.4
A167: =IF(Selbstdeklaration!$F$76=B167,F167/20*Selbstdeklaration!$F$77,0) -> 0 | B167: 140000 | C167: =+B167*D167 -> 454 | D167: =(F4)/B167 -> 0.0032428571 | F167: =+$C$167-C167 -> 0 | H167: =ROUND($F$4-C167,1) -> 0 | I167: =ROUND($F$4*1.5-C167*1.5,1) -> 0 | J167: =ROUND($F$4*2-C167*2,1) -> 0 | K167: =ROUND($F$4*2.5-C167*2.5,1) -> 0 | L167: =ROUND($F$4*3-C167*3,1) -> 0 | M167: =ROUND($F$4*3.5-C167*3.5,1) -> 0 | N167: =ROUND($F$4*4-C167*4,1) -> 0 | O167: =ROUND($F$4*4.5-C167*4.5,1) -> 0 | P167: =ROUND($F$4*5-C167*5,1) -> 0
A168: =IF(Selbstdeklaration!$F$76=B168,F168*Selbstdeklaration!$F$77/10,0) -> 0 | B168: 125500 | C168: =+B168*D168 -> #REF! | D168: =D167+(#REF!-$D$7)/90000*500 -> #REF! | F168: =+$F$5-C168 -> #REF! | H168: =ROUND($F$5-C168,1) -> #REF! | I168: =ROUND($F$5*1.5-C168*1.5,1) -> #REF! | J168: =ROUND($F$5*2-C168*2,1) -> #REF! | K168: =ROUND($F$5*2.5-C168*2.5,1) -> #REF! | L168: =ROUND($F$5*3-C168*3,1) -> #REF! | M168: =ROUND($F$5*3.5-C168*3.5,1) -> #REF! | N168: =ROUND($F$5*4-C168*4,1) -> #REF! | O168: =ROUND($F$5*4.5-C168*4.5,1) -> #REF! | P168: =ROUND($F$5*5-C168*5,1) -> #REF!
A169: =IF(Selbstdeklaration!$F$76=B169,F169*Selbstdeklaration!$F$77/10,0) -> 0 | B169: 126000 | C169: =+B169*D169 -> #REF! | D169: =D168+(#REF!-$D$7)/90000*500 -> #REF! | F169: =+$F$5-C169 -> #REF! | H169: =ROUND($F$5-C169,1) -> #REF! | I169: =ROUND($F$5*1.5-C169*1.5,1) -> #REF! | J169: =ROUND($F$5*2-C169*2,1) -> #REF! | K169: =ROUND($F$5*2.5-C169*2.5,1) -> #REF! | L169: =ROUND($F$5*3-C169*3,1) -> #REF! | M169: =ROUND($F$5*3.5-C169*3.5,1) -> #REF! | N169: =ROUND($F$5*4-C169*4,1) -> #REF! | O169: =ROUND($F$5*4.5-C169*4.5,1) -> #REF! | P169: =ROUND($F$5*5-C169*5,1) -> #REF!
A170: =IF(Selbstdeklaration!$F$76=B170,F170*Selbstdeklaration!$F$77/10,0) -> 0 | B170: 126500 | C170: =+B170*D170 -> #REF! | D170: =D169+(#REF!-$D$7)/90000*500 -> #REF! | F170: =+$F$5-C170 -> #REF! | H170: =ROUND($F$5-C170,1) -> #REF! | I170: =ROUND($F$5*1.5-C170*1.5,1) -> #REF! | J170: =ROUND($F$5*2-C170*2,1) -> #REF! | K170: =ROUND($F$5*2.5-C170*2.5,1) -> #REF! | L170: =ROUND($F$5*3-C170*3,1) -> #REF! | M170: =ROUND($F$5*3.5-C170*3.5,1) -> #REF! | N170: =ROUND($F$5*4-C170*4,1) -> #REF! | O170: =ROUND($F$5*4.5-C170*4.5,1) -> #REF! | P170: =ROUND($F$5*5-C170*5,1) -> #REF!
A171: =IF(Selbstdeklaration!$F$76=B171,F171*Selbstdeklaration!$F$77/10,0) -> 0 | B171: 127000 | C171: =+B171*D171 -> #REF! | D171: =D170+(#REF!-$D$7)/90000*500 -> #REF! | F171: =+$F$5-C171 -> #REF! | H171: =ROUND($F$5-C171,1) -> #REF! | I171: =ROUND($F$5*1.5-C171*1.5,1) -> #REF! | J171: =ROUND($F$5*2-C171*2,1) -> #REF! | K171: =ROUND($F$5*2.5-C171*2.5,1) -> #REF! | L171: =ROUND($F$5*3-C171*3,1) -> #REF! | M171: =ROUND($F$5*3.5-C171*3.5,1) -> #REF! | N171: =ROUND($F$5*4-C171*4,1) -> #REF! | O171: =ROUND($F$5*4.5-C171*4.5,1) -> #REF! | P171: =ROUND($F$5*5-C171*5,1) -> #REF!
A172: =IF(Selbstdeklaration!$F$76=B172,F172*Selbstdeklaration!$F$77/10,0) -> 0 | B172: 127500 | C172: =+B172*D172 -> #REF! | D172: =D171+(#REF!-$D$7)/90000*500 -> #REF! | F172: =+$F$5-C172 -> #REF! | H172: =ROUND($F$5-C172,1) -> #REF! | I172: =ROUND($F$5*1.5-C172*1.5,1) -> #REF! | J172: =ROUND($F$5*2-C172*2,1) -> #REF! | K172: =ROUND($F$5*2.5-C172*2.5,1) -> #REF! | L172: =ROUND($F$5*3-C172*3,1) -> #REF! | M172: =ROUND($F$5*3.5-C172*3.5,1) -> #REF! | N172: =ROUND($F$5*4-C172*4,1) -> #REF! | O172: =ROUND($F$5*4.5-C172*4.5,1) -> #REF! | P172: =ROUND($F$5*5-C172*5,1) -> #REF!
A173: =IF(Selbstdeklaration!$F$76=B173,F173*Selbstdeklaration!$F$77/10,0) -> 0 | B173: 128000 | C173: =+B173*D173 -> #REF! | D173: =D172+(#REF!-$D$7)/90000*500 -> #REF! | F173: =+$F$5-C173 -> #REF! | H173: =ROUND($F$5-C173,1) -> #REF! | I173: =ROUND($F$5*1.5-C173*1.5,1) -> #REF! | J173: =ROUND($F$5*2-C173*2,1) -> #REF! | K173: =ROUND($F$5*2.5-C173*2.5,1) -> #REF! | L173: =ROUND($F$5*3-C173*3,1) -> #REF! | M173: =ROUND($F$5*3.5-C173*3.5,1) -> #REF! | N173: =ROUND($F$5*4-C173*4,1) -> #REF! | O173: =ROUND($F$5*4.5-C173*4.5,1) -> #REF! | P173: =ROUND($F$5*5-C173*5,1) -> #REF!
A174: =IF(Selbstdeklaration!$F$76=B174,F174*Selbstdeklaration!$F$77/10,0) -> 0 | B174: 128500 | C174: =+B174*D174 -> #REF! | D174: =D173+(#REF!-$D$7)/90000*500 -> #REF! | F174: =+$F$5-C174 -> #REF! | H174: =ROUND($F$5-C174,1) -> #REF! | I174: =ROUND($F$5*1.5-C174*1.5,1) -> #REF! | J174: =ROUND($F$5*2-C174*2,1) -> #REF! | K174: =ROUND($F$5*2.5-C174*2.5,1) -> #REF! | L174: =ROUND($F$5*3-C174*3,1) -> #REF! | M174: =ROUND($F$5*3.5-C174*3.5,1) -> #REF! | N174: =ROUND($F$5*4-C174*4,1) -> #REF! | O174: =ROUND($F$5*4.5-C174*4.5,1) -> #REF! | P174: =ROUND($F$5*5-C174*5,1) -> #REF!
A175: =IF(Selbstdeklaration!$F$76=B175,F175*Selbstdeklaration!$F$77/10,0) -> 0 | B175: 129000 | C175: =+B175*D175 -> #REF! | D175: =D174+(#REF!-$D$7)/90000*500 -> #REF! | F175: =+$F$5-C175 -> #REF! | H175: =ROUND($F$5-C175,1) -> #REF! | I175: =ROUND($F$5*1.5-C175*1.5,1) -> #REF! | J175: =ROUND($F$5*2-C175*2,1) -> #REF! | K175: =ROUND($F$5*2.5-C175*2.5,1) -> #REF! | L175: =ROUND($F$5*3-C175*3,1) -> #REF! | M175: =ROUND($F$5*3.5-C175*3.5,1) -> #REF! | N175: =ROUND($F$5*4-C175*4,1) -> #REF! | O175: =ROUND($F$5*4.5-C175*4.5,1) -> #REF! | P175: =ROUND($F$5*5-C175*5,1) -> #REF!
A176: =IF(Selbstdeklaration!$F$76=B176,F176*Selbstdeklaration!$F$77/10,0) -> 0 | B176: 129500 | C176: =+B176*D176 -> #REF! | D176: =D175+(#REF!-$D$7)/90000*500 -> #REF! | F176: =+$F$5-C176 -> #REF! | H176: =ROUND($F$5-C176,1) -> #REF! | I176: =ROUND($F$5*1.5-C176*1.5,1) -> #REF! | J176: =ROUND($F$5*2-C176*2,1) -> #REF! | K176: =ROUND($F$5*2.5-C176*2.5,1) -> #REF! | L176: =ROUND($F$5*3-C176*3,1) -> #REF! | M176: =ROUND($F$5*3.5-C176*3.5,1) -> #REF! | N176: =ROUND($F$5*4-C176*4,1) -> #REF! | O176: =ROUND($F$5*4.5-C176*4.5,1) -> #REF! | P176: =ROUND($F$5*5-C176*5,1) -> #REF!
